BEGIN:VCALENDAR
VERSION:2.0
PRODID:-//eventon.com NONSGML v1.0//EN
BEGIN:VEVENT
UID:69ed4c71553f7
DTSTAMP:20260425T182121
DTSTART:20280522T183000Z
DTEND:20280522T193000Z
LOCATION:Classroom 301 S Main St
SUMMARY:Private Music Lesson
DESCRIPTION: Private Music Lesson
END:VEVENT
END:VCALENDAR