BEGIN:VCALENDAR
VERSION:2.0
PRODID:-//eventon.com NONSGML v1.0//EN
BEGIN:VEVENT
UID:69e8564f0afd6
DTSTAMP:20260422T000207
DTSTART:20270621T183000Z
DTEND:20270621T193000Z
LOCATION:Classroom 301 S Main St
SUMMARY:Private Music Lesson
DESCRIPTION: Private Music Lesson
END:VEVENT
END:VCALENDAR