BEGIN:VCALENDAR
VERSION:2.0
PRODID:-//eventon.com NONSGML v1.0//EN
BEGIN:VEVENT
UID:69e6e1a7e2dd5
DTSTAMP:20260420T213207
DTSTART:20270315T183000Z
DTEND:20270315T193000Z
LOCATION:Classroom 301 S Main St
SUMMARY:Private Music Lesson
DESCRIPTION: Private Music Lesson
END:VEVENT
END:VCALENDAR