BEGIN:VCALENDAR
VERSION:2.0
PRODID:-//eventon.com NONSGML v1.0//EN
BEGIN:VEVENT
UID:69e6a9c4c2a5b
DTSTAMP:20260420T173340
DTSTART:20270301T183000Z
DTEND:20270301T193000Z
LOCATION:Classroom 301 S Main St
SUMMARY:Private Music Lesson
DESCRIPTION: Private Music Lesson
END:VEVENT
END:VCALENDAR