BEGIN:VCALENDAR
VERSION:2.0
PRODID:-//eventon.com NONSGML v1.0//EN
BEGIN:VEVENT
UID:69e5ef9632491
DTSTAMP:20260420T041918
DTSTART:20270111T183000Z
DTEND:20270111T193000Z
LOCATION:Classroom 301 S Main St
SUMMARY:Private Music Lesson
DESCRIPTION: Private Music Lesson
END:VEVENT
END:VCALENDAR