BEGIN:VCALENDAR
VERSION:2.0
PRODID:-//eventon.com NONSGML v1.0//EN
BEGIN:VEVENT
UID:69eb811cdaf3c
DTSTAMP:20260424T094132
DTSTART:20271227T233000Z
DTEND:20271228T020000Z
LOCATION:Akard Hall 301 S Main St
SUMMARY:Caring Friends
DESCRIPTION: Caring Friends
END:VEVENT
END:VCALENDAR