BEGIN:VCALENDAR
VERSION:2.0
PRODID:-//eventon.com NONSGML v1.0//EN
BEGIN:VEVENT
UID:69eb500075bcd
DTSTAMP:20260424T061200
DTSTART:20271213T233000Z
DTEND:20271214T020000Z
LOCATION:Akard Hall 301 S Main St
SUMMARY:Caring Friends
DESCRIPTION: Caring Friends
END:VEVENT
END:VCALENDAR