BEGIN:VCALENDAR
VERSION:2.0
PRODID:-//eventon.com NONSGML v1.0//EN
BEGIN:VEVENT
UID:69e88c6d269e4
DTSTAMP:20260422T035301
DTSTART:20270614T233000Z
DTEND:20270615T020000Z
LOCATION:Akard Hall 301 S Main St
SUMMARY:Caring Friends
DESCRIPTION: Caring Friends
END:VEVENT
END:VCALENDAR