BEGIN:VCALENDAR
VERSION:2.0
PRODID:-//eventon.com NONSGML v1.0//EN
BEGIN:VEVENT
UID:69e86f45e4e70
DTSTAMP:20260422T014837
DTSTART:20270607T233000Z
DTEND:20270608T020000Z
LOCATION:Akard Hall 301 S Main St
SUMMARY:Caring Friends
DESCRIPTION: Caring Friends
END:VEVENT
END:VCALENDAR