BEGIN:VCALENDAR
VERSION:2.0
PRODID:-//eventon.com NONSGML v1.0//EN
BEGIN:VEVENT
UID:69e58c48a4e9e
DTSTAMP:20260419T211536
DTSTART:20261123T233000Z
DTEND:20261124T020000Z
LOCATION:Akard Hall 301 S Main St
SUMMARY:Caring Friends
DESCRIPTION: Caring Friends
END:VEVENT
END:VCALENDAR