BEGIN:VCALENDAR
VERSION:2.0
PRODID:-//eventon.com NONSGML v1.0//EN
BEGIN:VEVENT
UID:69eb5b9a605d3
DTSTAMP:20260424T070130
DTSTART:20271028T231500Z
DTEND:20271029T001500Z
LOCATION:Sanctuary 301 S. Main
SUMMARY:Praise Team Rehearsal
DESCRIPTION: Praise Team Rehearsal
END:VEVENT
END:VCALENDAR