BEGIN:VCALENDAR
VERSION:2.0
PRODID:-//eventon.com NONSGML v1.0//EN
BEGIN:VEVENT
UID:69e96872ce559
DTSTAMP:20260422T193146
DTSTART:20270617T231500Z
DTEND:20270618T001500Z
LOCATION:Sanctuary 301 S. Main
SUMMARY:Praise Team Rehearsal
DESCRIPTION: Praise Team Rehearsal
END:VEVENT
END:VCALENDAR