BEGIN:VCALENDAR
VERSION:2.0
PRODID:-//eventon.com NONSGML v1.0//EN
BEGIN:VEVENT
UID:69e7631c1788d
DTSTAMP:20260421T064428
DTSTART:20270204T231500Z
DTEND:20270205T001500Z
LOCATION:Sanctuary 301 S. Main
SUMMARY:Praise Team Rehearsal
DESCRIPTION: Praise Team Rehearsal
END:VEVENT
END:VCALENDAR