BEGIN:VCALENDAR
VERSION:2.0
PRODID:-//eventon.com NONSGML v1.0//EN
BEGIN:VEVENT
UID:69e638683253d
DTSTAMP:20260420T093000
DTSTART:20261119T231500Z
DTEND:20261120T001500Z
LOCATION:Sanctuary 301 S. Main
SUMMARY:Praise Team Rehearsal
DESCRIPTION: Praise Team Rehearsal
END:VEVENT
END:VCALENDAR